BEGIN:VCALENDAR
VERSION:2.0
PRODID:-//DEINE SITZUNG - ECPv6.7.0//NONSGML v1.0//EN
CALSCALE:GREGORIAN
METHOD:PUBLISH
X-ORIGINAL-URL:https://www.deine-sitzung.de
X-WR-CALDESC:Veranstaltungen für DEINE SITZUNG
REFRESH-INTERVAL;VALUE=DURATION:PT1H
X-Robots-Tag:noindex
X-PUBLISHED-TTL:PT1H
BEGIN:VTIMEZONE
TZID:Europe/Berlin
BEGIN:DAYLIGHT
TZOFFSETFROM:+0100
TZOFFSETTO:+0200
TZNAME:CEST
DTSTART:20230326T010000
END:DAYLIGHT
BEGIN:STANDARD
TZOFFSETFROM:+0200
TZOFFSETTO:+0100
TZNAME:CET
DTSTART:20231029T010000
END:STANDARD
END:VTIMEZONE
BEGIN:VEVENT
DTSTART;TZID=Europe/Berlin:20231107T200000
DTEND;TZID=Europe/Berlin:20231107T223000
DTSTAMP:20260421T141844
CREATED:20230913T215758Z
LAST-MODIFIED:20230913T215758Z
UID:4410-1699387200-1699396200@www.deine-sitzung.de
SUMMARY:DEINE SITZUNG - Stimmdichein
DESCRIPTION:Kurz vor dem Startschuss und dem ersten Alaaf zur Session 2023/24 bieten wir von DEINE SITZUNG erstmalig einen besonderen Einstimm-Service. Mit uns zusammen könnt Ihr Euch aufwärmen\, eingrooven und vor allem: Die ganz entscheidenden Lieder üben. \nWir freuen uns wie jeck\, dass extra für diese Veranstaltung Peggy Sugarhill – die legendäre Frontfrau der Rockemariechen – das Team von DEINE SITZUNG verstärkt. Zusammen mit Ebasa der Meister wird Peggy Sugarhill durch den Abend führen. Für Livemusik ist das hochkarätig besetzte Orchester der Liebe zuständig. Eine ganze Band spielt zum Mitsingen auf – wo gibt es denn sowas? \nPräsentiert wird eine große Auswahl der wichtigsten kölschen Lieder und diese werden mit Euch gemeinsam aufgefrischt. Neben Aktuellem wie „Prinzessin“ / „Alle Jläser huh“ / „Wigga Digga“ / „Tommi“ oder „Nie mehr Fastelovend“ gibt es neue und alte Karnevalshits wie „et jitt kei Wood“ / „Wolkeplatz“ / „Leev Marie“ oder „In unserem Veedel“. Die Texte auf Leinwand projiziert\, geht Einstimmen und Mitsingen nicht einfacher. \nDa es sich um eine DEINE SITZUNG – Veranstaltung handelt\, werden überraschende Highlights eingestreut. Euch erwartet zB ein Trash-Mettley – mit den schlechtesten und schlimmsten Karnevalsliedern aller Zeiten\, eine Alphornnummer von Ebasa der Meister\, Rockemariechen Hits mit Peggy Sugarhill und Programmhighlights der vergangenen DEINE SITZUNG Jahre\, wie das legendäre Beatles-Mettley aus 2019. \nDEINE SITZUNG – Stimmdichein bietet allen Jecken unmittelbar vor dem 11.11. die Möglichkeit\, am Karneval zu riechen\, in Stimmung zu kommen und vollkommen jeck in die Session zu starten. \nDEINE SITZUNG – Stimmdichein\nmit\nEbasa der Meister\nPeggy Sugarhill\nund dem Orchester der Liebe\nHans Fücker – Keyboard\nTill Kersting – Gitarre\nAlexander Boerner – Bass\nDirk Ferdinand – Schlagzeug
URL:https://www.deine-sitzung.de/veranstaltung/deine-sitzung-stimmdichein-7-11/
LOCATION:BüZe – Bürgerzentrum Ehrenfeld\, Venloer Straße 429\, Köln\, 50825\, Deutschland
ORGANIZER;CN="DEINE SITZUNG":MAILTO:post@deine-sitzung.de
END:VEVENT
END:VCALENDAR