BEGIN:VCALENDAR
VERSION:2.0
PRODID:-//DEINE SITZUNG - ECPv6.7.0//NONSGML v1.0//EN
CALSCALE:GREGORIAN
METHOD:PUBLISH
X-ORIGINAL-URL:https://www.deine-sitzung.de
X-WR-CALDESC:Veranstaltungen für DEINE SITZUNG
REFRESH-INTERVAL;VALUE=DURATION:PT1H
X-Robots-Tag:noindex
X-PUBLISHED-TTL:PT1H
BEGIN:VTIMEZONE
TZID:Europe/Berlin
BEGIN:DAYLIGHT
TZOFFSETFROM:+0100
TZOFFSETTO:+0200
TZNAME:CEST
DTSTART:20240331T010000
END:DAYLIGHT
BEGIN:STANDARD
TZOFFSETFROM:+0200
TZOFFSETTO:+0100
TZNAME:CET
DTSTART:20241027T010000
END:STANDARD
END:VTIMEZONE
BEGIN:VEVENT
DTSTART;TZID=Europe/Berlin:20240112T193000
DTEND;TZID=Europe/Berlin:20240112T230000
DTSTAMP:20260425T123006
CREATED:20231017T215151Z
LAST-MODIFIED:20231017T221329Z
UID:4554-1705087800-1705100400@www.deine-sitzung.de
SUMMARY:DEINE SITZUNG 2024 - Tusch de France (Premiere)
DESCRIPTION:Mirja Boes\nebasa der Meister\nOrchester der Liebe\n\nAlexander Boerner\nDirk Ferdinand\nHans Fücker\nTill Kersting\nUdo Schild\n\n\nWinkemariechen Britta und andere Sehenswürdigkeiten\n\n2024 reist DEINE SITZUNG nach Frankreich – in das Land der Liebe\, der Belle Cuisine\, des TGV\, der Atomkraft und des Mett-Baguettes.\nWie immer geschieht dies völlig Co2 neutral mit dem Bicyclette – allerdings gedopt bis der Arzt kommt. Frosch-Fööss\, Schabau-au-Lait\, Rievkooche-Brulee  und Coq-au-Kölsch sind dabei noch die harmlosesten Aufputschmittel.\nFreut Euch auf Mirja Boes als Quiche Lorraine\, auf ebasa le Maitre als Jungfrau von Orleans\, auf das „Orchestre de l’amour“ als Fremdenlegion und das Winkemariechen als Eiffelturm.\nNatürlich haben wir wieder wechselnde Gäste für Euch vorbereitet. Wer da aber als Glöcknerin von Notre Dame\, Gerard Depardieu\, Troubadix oder Brigitte Bardot die Pret-a-porter der Welt betritt weiß nur Nicolas Sarcozy\, der in einer früheren Session Napoleon selbst war!\nEs gilt: Liberte\, Egalite\, Einenimtee und zum Nachtisch gibt es Pink Poms de Terre. \nDEINE SITZUNG – das Negligee des Karnevals\, die Concorde des Vergnügens\, das Bonbon des Fastelovends. \nDarauf ein dreifaches: \nBacken\, Hacken und Mett!
URL:https://www.deine-sitzung.de/veranstaltung/deine-sitzung-2024-tusch-de-france-premiere/
LOCATION:Brunosaal\, Klettenberggürtel 65\, Köln\, 50939\, Deutschland
END:VEVENT
END:VCALENDAR